BEGIN:VCALENDAR
VERSION:2.0
PRODID:-//Olof - ECPv6.15.20//NONSGML v1.0//EN
CALSCALE:GREGORIAN
METHOD:PUBLISH
X-WR-CALNAME:Olof
X-ORIGINAL-URL:https://olof.nl
X-WR-CALDESC:Evenementen voor Olof
REFRESH-INTERVAL;VALUE=DURATION:PT1H
X-Robots-Tag:noindex
X-PUBLISHED-TTL:PT1H
BEGIN:VTIMEZONE
TZID:UTC
BEGIN:STANDARD
TZOFFSETFROM:+0000
TZOFFSETTO:+0000
TZNAME:UTC
DTSTART:20200101T000000
END:STANDARD
END:VTIMEZONE
BEGIN:VEVENT
DTSTART;TZID=UTC:20210201T200000
DTEND;TZID=UTC:20210201T233000
DTSTAMP:20260424T175030
CREATED:20210113T172058Z
LAST-MODIFIED:20210113T172058Z
UID:3629-1612209600-1612222200@olof.nl
SUMMARY:Online Jaarclubavond
DESCRIPTION:Online jaarclubavond voor de leden van het Glorijaar. Inschrijvingen zijn nog niet geopend. Meer informatie volgt.
URL:https://olof.nl/event/online-jaarclubavond/
LOCATION:Online
END:VEVENT
BEGIN:VEVENT
DTSTART;TZID=UTC:20210204T140000
DTEND;TZID=UTC:20210204T180000
DTSTAMP:20260424T175030
CREATED:20210125T163608Z
LAST-MODIFIED:20210125T163628Z
UID:3700-1612447200-1612461600@olof.nl
SUMMARY:Bezoek de 'T Skiet Niet Op' - Kraam
DESCRIPTION:Tussen 14:00 en 18:00 zetten wij de ‘T Skiet Niet Op’ kraam neer voor het pand. Wandel langs voor een warme glühwein of choco voor een schappelijk prijsje. Het skiet niet op\, maar het leven is mooier met een glühweintje op.
URL:https://olof.nl/event/bezoek-de-t-skiet-niet-op-kraam-3/
LOCATION:Sociëteit Asgard\, Spoorlaan\, Tilburg\, Noord-Brabant\, 5038CC\, Nederland
END:VEVENT
BEGIN:VEVENT
DTSTART;TZID=UTC:20210204T200000
DTEND;TZID=UTC:20210204T233000
DTSTAMP:20260424T175030
CREATED:20210125T164356Z
LAST-MODIFIED:20210125T164356Z
UID:3702-1612468800-1612481400@olof.nl
SUMMARY:Eerstejaars Jaarclubavond Mannen
DESCRIPTION:Eerstejaars Jaarclubavond voor mannen. In het kader van de jaarclubvorming wordt er door de Besloten Activiteiten Commissie een online avond georganiseerd voor de mannen van het Glorijaar.
URL:https://olof.nl/event/eerstejaars-jaarclubavond-mannen/
LOCATION:Online
END:VEVENT
BEGIN:VEVENT
DTSTART;TZID=UTC:20210208T200000
DTEND;TZID=UTC:20210208T233000
DTSTAMP:20260424T175030
CREATED:20210113T172508Z
LAST-MODIFIED:20210113T172508Z
UID:3631-1612814400-1612827000@olof.nl
SUMMARY:Online Commissie Avond
DESCRIPTION:Vergader online en leer je commissiegenoten beter kennen
URL:https://olof.nl/event/online-commissie-avond/
LOCATION:Online
END:VEVENT
BEGIN:VEVENT
DTSTART;TZID=UTC:20210211T200000
DTEND;TZID=UTC:20210211T233000
DTSTAMP:20260424T175030
CREATED:20210125T164504Z
LAST-MODIFIED:20220919T121841Z
UID:3704-1613073600-1613086200@olof.nl
SUMMARY:Jaarclubvormingsavond
DESCRIPTION:
URL:https://olof.nl/event/eerstejaars-jaarclubavond-voor-vrouwen/2021-02-11/
END:VEVENT
BEGIN:VEVENT
DTSTART;TZID=UTC:20210212T210000
DTEND;TZID=UTC:20210212T233000
DTSTAMP:20260424T175030
CREATED:20210113T172658Z
LAST-MODIFIED:20210125T165132Z
UID:3633-1613163600-1613172600@olof.nl
SUMMARY:Online Carnavals Openfeest
DESCRIPTION:Online Carnavals Openfeest
URL:https://olof.nl/event/online-carnavals-openfeest/
LOCATION:Online
END:VEVENT
BEGIN:VEVENT
DTSTART;TZID=UTC:20210214T000000
DTEND;TZID=UTC:20210214T233000
DTSTAMP:20260424T175030
CREATED:20210125T165940Z
LAST-MODIFIED:20210125T165940Z
UID:3706-1613260800-1613345400@olof.nl
SUMMARY:Valentijnsdag
DESCRIPTION:De dag dat Cupido zijn vleugels spreidt om de liefde te verspreiden. Wordt jij getroffen door zijn pijl?
URL:https://olof.nl/event/valentijnsdag/
END:VEVENT
BEGIN:VEVENT
DTSTART;TZID=UTC:20210222T200000
DTEND;TZID=UTC:20210222T220000
DTSTAMP:20260424T175030
CREATED:20210113T173046Z
LAST-MODIFIED:20210113T173046Z
UID:3635-1614024000-1614031200@olof.nl
SUMMARY:Online ALV
DESCRIPTION:Online Algemene Leden Vergadering
URL:https://olof.nl/event/online-alv-2/
LOCATION:Online
END:VEVENT
END:VCALENDAR