BEGIN:VCALENDAR
VERSION:2.0
PRODID:-//Olof - ECPv6.15.20//NONSGML v1.0//EN
CALSCALE:GREGORIAN
METHOD:PUBLISH
X-WR-CALNAME:Olof
X-ORIGINAL-URL:https://olof.nl
X-WR-CALDESC:Evenementen voor Olof
REFRESH-INTERVAL;VALUE=DURATION:PT1H
X-Robots-Tag:noindex
X-PUBLISHED-TTL:PT1H
BEGIN:VTIMEZONE
TZID:UTC
BEGIN:STANDARD
TZOFFSETFROM:+0000
TZOFFSETTO:+0000
TZNAME:UTC
DTSTART:20200101T000000
END:STANDARD
END:VTIMEZONE
BEGIN:VEVENT
DTSTART;TZID=UTC:20210301T200000
DTEND;TZID=UTC:20210301T200000
DTSTAMP:20260424T164016
CREATED:20210128T124356Z
LAST-MODIFIED:20210128T124356Z
UID:3712-1614628800-1614628800@olof.nl
SUMMARY:Online ELV
DESCRIPTION:Eerstejaarsledenvergadering. De senaat gaat in gesprek met de eerstejaars over hoe zij hun eerste halfjaar bij Olof hebben meegemaakt en wat zij voor hen kunnen doen om het nog mooier te maken.
URL:https://olof.nl/event/online-elv/
LOCATION:Online
END:VEVENT
BEGIN:VEVENT
DTSTART;TZID=UTC:20210304T160000
DTEND;TZID=UTC:20210304T200000
DTSTAMP:20260424T164016
CREATED:20210113T173606Z
LAST-MODIFIED:20210125T161956Z
UID:3637-1614873600-1614888000@olof.nl
SUMMARY:De Tribune presenteert: Symposium Tweede Kamerverkiezingen
DESCRIPTION:Meer informatie volgt. \nVolg https://www.instagram.com/tilburgs_studentensymposium/ op instagram.
URL:https://olof.nl/event/de-tribune-presenteert-symposium-tweede-kamerverkiezingen/
LOCATION:Tilburg University\, Warandelaan 2\, Tilburg\, Noord-Brabant\, 5037AB\, Nederland
END:VEVENT
BEGIN:VEVENT
DTSTART;TZID=UTC:20210311T180000
DTEND;TZID=UTC:20210311T233000
DTSTAMP:20260424T164016
CREATED:20210304T170137Z
LAST-MODIFIED:20210308T150613Z
UID:3824-1615485600-1615505400@olof.nl
SUMMARY:Olof Culinair @ Home
DESCRIPTION:De zon breekt door en de vlinders kruipen uit hun coconnetjes. De eerste flessen rosé worden uit de koeling getoverd\, maar pas op! Vergeet geen goede bodem te leggen. De maagjes van de leden knorren en aangezien de gastro’s daar een hekel aan hebben\, hebben zij niet één maar twéé menu’s voorbereid. Kortom de keuze is reuze. Hieronder de menu’s waaruit u kunt kiezen: \nKlassiek \nVoor: Klassieke ‘Steak Tartare’ / Toast\nHoofd: Porchetta met Mediterraanse kruiden / Knolselderijpurée / ‘Million-layer” aardappelterrine\nNa: Tilburgsche Tiramisu / Schrobbelèr \nVega \nVega voor: Soep van geroosterde pompoenen / Stokbrood / Kruidenbeurre\nVega hoofd: Cannelloni / Ricotta / Spinazi / Citroen / Parmazaanse kaas\nNa: Tilburgsche Tiramisu / Schrobbelèr \nINSCHRIJVINGEN ZIJN GESLOTEN! \n 
URL:https://olof.nl/event/olof-culinair-home-2/
END:VEVENT
END:VCALENDAR