BEGIN:VCALENDAR
VERSION:2.0
PRODID:-//Olof - ECPv6.15.20//NONSGML v1.0//EN
CALSCALE:GREGORIAN
METHOD:PUBLISH
X-ORIGINAL-URL:https://olof.nl
X-WR-CALDESC:Evenementen voor Olof
REFRESH-INTERVAL;VALUE=DURATION:PT1H
X-Robots-Tag:noindex
X-PUBLISHED-TTL:PT1H
BEGIN:VTIMEZONE
TZID:UTC
BEGIN:STANDARD
TZOFFSETFROM:+0000
TZOFFSETTO:+0000
TZNAME:UTC
DTSTART:20200101T000000
END:STANDARD
END:VTIMEZONE
BEGIN:VEVENT
DTSTART;TZID=UTC:20210416T193000
DTEND;TZID=UTC:20210416T233000
DTSTAMP:20260423T234414
CREATED:20210326T151355Z
LAST-MODIFIED:20210326T151355Z
UID:3845-1618601400-1618615800@olof.nl
SUMMARY:Heel Olof Bakt
DESCRIPTION:Bij deze activiteit in samen werking met onze oudleden vereniging\, Vrienden van Olof\, zullen leden en oudleden samen bakken doen. Een vos verliest zijn streken niet en zo blijkt ook voor onze leden.
URL:https://olof.nl/event/heel-olof-bakt/
LOCATION:Online
END:VEVENT
BEGIN:VEVENT
DTSTART;TZID=UTC:20210421T200000
DTEND;TZID=UTC:20210421T233000
DTSTAMP:20260423T234414
CREATED:20210326T151718Z
LAST-MODIFIED:20210413T134358Z
UID:3847-1619035200-1619047800@olof.nl
SUMMARY:Online AHC Songfestival (Uitgesteld!)
DESCRIPTION:The Mexican Dog gaat wederom de strijd aan met studentenverenigingen uit heel het land om het beste studentikoze hitje te schrijven. Zullen zij er wederom met de winst van doorgaan? \nHet AHC Songfestival is verplaatst. De nieuwe datum zal nog gecommuniceerd worden! \nLuister de muziek van The Mexican Dog via https://open.spotify.com/artist/1LVX4McQtw4slWLkWrzYDX \n 
URL:https://olof.nl/event/online-ahc-songfestival/
LOCATION:Online
END:VEVENT
BEGIN:VEVENT
DTSTART;VALUE=DATE:20210427
DTEND;VALUE=DATE:20210428
DTSTAMP:20260423T234414
CREATED:20210407T164159Z
LAST-MODIFIED:20210407T164159Z
UID:3927-1619481600-1619567999@olof.nl
SUMMARY:Koningsdag
DESCRIPTION:Prins Pils zal afstand doen van de mooie leeftijd van 53 en mag 54 oranje kaarsjes uitblazen. Zal deze ware koning een oerhollands kringgesprek hebben met de Oranjes of zal hij zich ouderwets aan een pilsje wagen?
URL:https://olof.nl/event/koningsdag/
END:VEVENT
BEGIN:VEVENT
DTSTART;TZID=UTC:20210428T200000
DTEND;TZID=UTC:20210428T233000
DTSTAMP:20260423T234414
CREATED:20210407T163910Z
LAST-MODIFIED:20210407T163910Z
UID:3925-1619640000-1619652600@olof.nl
SUMMARY:Ranking The Disputen
DESCRIPTION:Hoe ranken de disputen in vergelijking met elkaar? De BACo organiseert een avond om voor eens en voor altijd de waarheid boven tafel te krijgen.
URL:https://olof.nl/event/ranking-the-disputen/
LOCATION:Dispuutshuizen
END:VEVENT
BEGIN:VEVENT
DTSTART;TZID=UTC:20210429T180000
DTEND;TZID=UTC:20210429T233000
DTSTAMP:20260423T234414
CREATED:20210407T163615Z
LAST-MODIFIED:20210420T145545Z
UID:3923-1619719200-1619739000@olof.nl
SUMMARY:Olof Culinair @ Home
DESCRIPTION:Waarde leden\, op donderdag 29 april zal er weer een nieuwe editie van Olof Culinair at home plaatsvinden! Deze editie steken we het Olof Culinair at home concept in een ander jasje. Het menu bestaat uit spareribs of een halloumi burger voor de vega’s. Een hele rib ligt al op je bord voor slechts €9\,-\, een halve rib voor €6\,- en de halloumi burger is ook voor maar €6\,- euro te bestellen.  De aanmeldingen zijn vanaf nu geopend\, op=op. Je bent aangemeld als je een bevestiging van de q2 hebt gekregen! Wees er snel bij want er zijn maar een beperkt aantal plekken beschikbaar.\n\n\n                \n                        \n                            Olof Culinair\n                             \n                        \n                        E-mailadres*\n                            \n                        Normale Mensen Menu: Spare-ribs (Heel)*Benoem de namen van de aanwezigen die een Normale Mensen menu (heel) willen. Voor- en achternaam. + eventuele dieetwensen.\n\nVB: Lid Lidmans - Gluten allergieNormale Mensen Menu: Spare-ribs (Half)*Benoem de namen van de aanwezigen die een Normale Mensen menu (half) willen. Voor- en achternaam. + eventuele dieetwensen.\n\nVB: Lid Lidmans - Gluten allergieWereldverbeteraars Menu: Halloumi burger*Benoem de namen van de aanwezigen die een Wereldverbeteraars menu willen. Voor- en achternaam. + eventuele dieetwensen.\n\nVB: Lid Lidmans - Gluten allergie
URL:https://olof.nl/event/olof-culinair-home-3/
END:VEVENT
END:VCALENDAR