BEGIN:VCALENDAR
VERSION:2.0
PRODID:-//Olof - ECPv6.15.20//NONSGML v1.0//EN
CALSCALE:GREGORIAN
METHOD:PUBLISH
X-WR-CALNAME:Olof
X-ORIGINAL-URL:https://olof.nl
X-WR-CALDESC:Evenementen voor Olof
REFRESH-INTERVAL;VALUE=DURATION:PT1H
X-Robots-Tag:noindex
X-PUBLISHED-TTL:PT1H
BEGIN:VTIMEZONE
TZID:UTC
BEGIN:STANDARD
TZOFFSETFROM:+0000
TZOFFSETTO:+0000
TZNAME:UTC
DTSTART:20200101T000000
END:STANDARD
END:VTIMEZONE
BEGIN:VEVENT
DTSTART;TZID=UTC:20210504T200000
DTEND;TZID=UTC:20210504T203000
DTSTAMP:20260423T222918
CREATED:20210504T095442Z
LAST-MODIFIED:20210504T095442Z
UID:4078-1620158400-1620160200@olof.nl
SUMMARY:Dodenherdenking
DESCRIPTION:Op deze dag herdenken we alle burgers en militairen die in het Koninkrijk der Nederlanden of waar ook ter wereld zijn omgekomen sinds het uitbreken van de Tweede Wereldoorlog\, in oorlogssituaties en bij vredesoperaties.
URL:https://olof.nl/event/dodenherdenking/
END:VEVENT
BEGIN:VEVENT
DTSTART;TZID=UTC:20210505T110000
DTEND;TZID=UTC:20210505T200000
DTSTAMP:20260423T222918
CREATED:20210430T093213Z
LAST-MODIFIED:20210430T093222Z
UID:4047-1620212400-1620244800@olof.nl
SUMMARY:Alea Iacta Bevrijdingswandeling
DESCRIPTION:
URL:https://olof.nl/event/alea-iacta-bevrijdingswandeling/
END:VEVENT
BEGIN:VEVENT
DTSTART;TZID=UTC:20210513T200000
DTEND;TZID=UTC:20210513T220000
DTSTAMP:20260423T222918
CREATED:20210430T092535Z
LAST-MODIFIED:20210430T092535Z
UID:4045-1620936000-1620943200@olof.nl
SUMMARY:Senaatsbekendmaking
DESCRIPTION:
URL:https://olof.nl/event/senaatsbekendmaking/
LOCATION:Online
END:VEVENT
BEGIN:VEVENT
DTSTART;TZID=UTC:20210519T200000
DTEND;TZID=UTC:20210519T233000
DTSTAMP:20260423T222918
CREATED:20210503T130839Z
LAST-MODIFIED:20210507T142329Z
UID:4073-1621454400-1621467000@olof.nl
SUMMARY:CuCo Cocktail Openfeest
DESCRIPTION:De Culturele Commissie zal jou tijdens het openfeest voorzien van cocktails van over de hele wereld. Voor slechts 8\,50 per persoon (afname van minimaal 4 personen) krijg jij een proefpakket opgestuurd. \n\n\n                \n                        \n                            CuCo Cocktail Openfeest\n                             \n                        \n                        Namen van deelnemersAdres    \n                    \n                         \n                                        \n                                        Straat + huisnummer\n                                    \n                                        \n                                        Adresregel 2\n                                    \n                                    \n                                    Plaats\n                                 \n                                        \n                                        Staat / provincie / regio\n                                      \n                                    \n                                    Postcode\n                                \n                                        AfghanistanAland-eilandenAlbaniëAlgerijeAmerikaans SamoaAmerikaanse MaagdeneilandenAndorraAngolaAnguillaAntarcticaAntigua en BarbudaArabische Republiek SyriëArgentiniëArmeniëArubaAustraliëAzerbeidzjanBahama'sBahreinBangladeshBarbadosBelgiëBelizeBeninBermudaBhutanBoliviaBonaire\, Sint Eustatius en SabaBosnië en HerzegovinaBotswanaBouvet eilandBraziliëBrits-Indisch oceaan gebiedBritse MaagdeneilandenBrunei DarussalamBulgarijeBurkina FasoBurundiCambodjaCanadaCentraal-Afrikaanse RepubliekChiliChinaCocoseilandenColombiaComorenCongoCongo\, Democratische RepubliekCook eilandenCosta RicaCubaCuraçaoCyprusDenemarkenDjiboutiDominicaDominicaanse RepubliekDuitslandEcuadorEgypteEl SalvadorEquatoriaal-GuineaEritreaEstlandEswatiniEthiopiëFaeröerFalkland eilandenFijiFilipijnenFinlandFrankrijkFrans GuyanaFrans-PolynesiëFranse zuidelijke gebiedenGabonGambiaGeorgiëGhanaGibraltarGrenadaGriekenlandGroenlandGuadeloupeGuamGuatemalaGuernseyGuineeGuinee-BissauGuyanaHaïtiHeard Eiland en McDonald EilandenHondurasHong KongHongarijeIJslandIerlandIndiaIndonesiëIrakIranIsraëlItaliëIvoorkustJamaicaJapanJerseyJižní Georgie a Jižní Sandwichovy ostrovyJordaniëKaaimaneilandenKaapverdiëKameroenKazachstanKeniaKersteilandKirgiziëKiribatiKleine eilanden van de Verenigde StatenKoeweitKorea\, Democratische VolksrepubliekKorea\, Republiek vanKroatiëLao Democratische VolksrepubliekLesothoLetlandLibanonLiberiaLibiëLiechtensteinLitouwenLuxemburgMacauMadagaskarMalawiMaldivenMaleisiëMaliMaltaManMarokkoMarshalleilandenMartiniqueMauritaniëMauritiusMayotteMexicoMicronesiaMoldaviëMonacoMongoliëMontenegroMontserratMozambiqueMyanmarNamibiëNauruNederlandNepalNicaraguaNieuw-CaledoniëNieuw-ZeelandNigerNigeriaNiueNoord-MacedoniëNoordelijke MarianenNoorwegenNorfolk eilandOegandaOekraïneOezbekistanOmanOostenrijkPakistanPalauPalestina\, StaatPanamaPapoea-Nieuw-GuineaParaguayPeruPitcairnPolenPortugalPuerto RicoQatarRoemeniëRussische FederatieRwandaRéunionSaint BarthélemySaint Kitts en NevisSaint LuciaSaint Pierre en MiquelonSaint Vincent en de GrenadinesSalomonseilandenSamoaSan MarinoSao Tomé en PrincipeSaoedi-ArabiëSenegalServiëSeychellenSierra LeoneSingaporeSint MaartenSint MaartenSint-Helena\, Hemelvaart en Tristan da CunhaSloveniëSlowakijeSoedanSomaliëSpanjeSpitsbergen en Jan MayenSri LankaSurinameTadzjikistanTaiwanTanzania\, de Verenigde Republiek vanThailandTimor-LesteTogoTokelauTongaTrinidad en TobagoTsjaadTsjechiëTunesiëTurkijeTurkmenistanTurks- en CaicoseilandenTuvaluUruguayVanuatuVaticaanstadVenezuelaVerenigd KoninkrijkVerenigde Arabische EmiratenVerenigde StatenVietnamWallis en FutunaWestelijke SaharaWit-RuslandYemenZambiaZimbabweZuid SoedanZuid-AfrikaZwedenZwitserland\n                                        Land
URL:https://olof.nl/event/cuco-cocktail-openfeest/
END:VEVENT
BEGIN:VEVENT
DTSTART;TZID=UTC:20210520T200000
DTEND;TZID=UTC:20210520T200000
DTSTAMP:20260423T222918
CREATED:20210430T093559Z
LAST-MODIFIED:20210504T154117Z
UID:4049-1621540800-1621540800@olof.nl
SUMMARY:IOC Beleggingsworkshop
DESCRIPTION:Ook geinteresseerd in beleggen in Crypto’s maar weet je niet waar je moet beginnen? Of heb je al een kleine portefeuille maar kan je nog wel wat tips en tricks gebruiken? Op 20 mei zal de IOC een interessante workshop over beleggen in Crypto’s organiseren. Adrie Klip neemt je mee in de wereld van beleggen en zal aan de hand van real life voorbeelden laten zien hoe je een slimme investering doet. Een week van te voren kan je al meedoen met een online spel\, beleg jij het beste in Crypto’s of win jij het meeste geld? Dan win je ook nog eens een mooie prijs.\nDe workshop is op 20 mei en begint om 20.00 uur. \n\n                \n                        \n                            Inschrijfformulier IOC\n                             \n                        \n                        Naam\n                            \n                            \n                                                    \n                                                    Voornaam\n                                                \n                            \n                            \n                                                    \n                                                    Achternaam\n                                                \n                            \n                        E-mailadres
URL:https://olof.nl/event/iocbeleggingsworkshop/
END:VEVENT
BEGIN:VEVENT
DTSTART;TZID=UTC:20210526T200000
DTEND;TZID=UTC:20210526T233000
DTSTAMP:20260423T222918
CREATED:20210503T130653Z
LAST-MODIFIED:20210503T130653Z
UID:4071-1622059200-1622071800@olof.nl
SUMMARY:AHC Songfestival
DESCRIPTION:
URL:https://olof.nl/event/ahc-songfestival/
END:VEVENT
END:VCALENDAR