BEGIN:VCALENDAR
VERSION:2.0
PRODID:-//Olof - ECPv6.15.20//NONSGML v1.0//EN
CALSCALE:GREGORIAN
METHOD:PUBLISH
X-ORIGINAL-URL:https://olof.nl
X-WR-CALDESC:Evenementen voor Olof
REFRESH-INTERVAL;VALUE=DURATION:PT1H
X-Robots-Tag:noindex
X-PUBLISHED-TTL:PT1H
BEGIN:VTIMEZONE
TZID:UTC
BEGIN:STANDARD
TZOFFSETFROM:+0000
TZOFFSETTO:+0000
TZNAME:UTC
DTSTART:20200101T000000
END:STANDARD
END:VTIMEZONE
BEGIN:VEVENT
DTSTART;TZID=UTC:20210614T080000
DTEND;TZID=UTC:20210614T170000
DTSTAMP:20260423T211547
CREATED:20210430T094434Z
LAST-MODIFIED:20210430T094434Z
UID:4052-1623657600-1623690000@olof.nl
SUMMARY:ALV
DESCRIPTION:
URL:https://olof.nl/event/alv/
END:VEVENT
BEGIN:VEVENT
DTSTART;TZID=UTC:20210617T100000
DTEND;TZID=UTC:20210619T200000
DTSTAMP:20260423T211547
CREATED:20210430T094735Z
LAST-MODIFIED:20210430T094735Z
UID:4054-1623924000-1624132800@olof.nl
SUMMARY:Na Examen Dagen
DESCRIPTION:
URL:https://olof.nl/event/na-examen-dagen/
LOCATION:Sociëteit Asgard\, Spoorlaan\, Tilburg\, Noord-Brabant\, 5038CC\, Nederland
END:VEVENT
BEGIN:VEVENT
DTSTART;TZID=UTC:20210620T100000
DTEND;TZID=UTC:20210620T170000
DTSTAMP:20260423T211547
CREATED:20210128T151411Z
LAST-MODIFIED:20210128T151411Z
UID:3733-1624183200-1624208400@olof.nl
SUMMARY:University Hockey League
DESCRIPTION:De tweede editie van de University Hockey League. Welke universiteit gaat er met de winst vandoor?
URL:https://olof.nl/event/university-hockey-league/
LOCATION:HC Tilburg\, Bredaseweg 447\, Tilburg\, Noord-Brabant\, 5036NA\, Netherlands
END:VEVENT
END:VCALENDAR