BEGIN:VCALENDAR
VERSION:2.0
PRODID:-//Olof - ECPv6.15.20//NONSGML v1.0//EN
CALSCALE:GREGORIAN
METHOD:PUBLISH
X-ORIGINAL-URL:https://olof.nl
X-WR-CALDESC:Evenementen voor Olof
REFRESH-INTERVAL;VALUE=DURATION:PT1H
X-Robots-Tag:noindex
X-PUBLISHED-TTL:PT1H
BEGIN:VTIMEZONE
TZID:UTC
BEGIN:STANDARD
TZOFFSETFROM:+0000
TZOFFSETTO:+0000
TZNAME:UTC
DTSTART:20200101T000000
END:STANDARD
END:VTIMEZONE
BEGIN:VEVENT
DTSTART;TZID=UTC:20210906T120000
DTEND;TZID=UTC:20210906T230000
DTSTAMP:20260423T170638
CREATED:20210906T130900Z
LAST-MODIFIED:20220821T113025Z
UID:4217-1630929600-1630969200@olof.nl
SUMMARY:In- en Uitstroom
DESCRIPTION:
URL:https://olof.nl/event/in-en-uitstroom-2/2021-09-06/
END:VEVENT
BEGIN:VEVENT
DTSTART;TZID=UTC:20210913T210000
DTEND;TZID=UTC:20210913T233000
DTSTAMP:20260423T170638
CREATED:20210506T155223Z
LAST-MODIFIED:20220821T112935Z
UID:4133-1631566800-1631575800@olof.nl
SUMMARY:Senaatswissel
DESCRIPTION:
URL:https://olof.nl/event/senaatswissel-2/2021-09-13/
END:VEVENT
BEGIN:VEVENT
DTSTART;TZID=UTC:20210922T200000
DTEND;TZID=UTC:20210922T230000
DTSTAMP:20260423T170638
CREATED:20210906T130953Z
LAST-MODIFIED:20210906T130953Z
UID:4219-1632340800-1632351600@olof.nl
SUMMARY:Jaarclubvormingsavond
DESCRIPTION:
URL:https://olof.nl/event/jaarclubvormingsavond/
END:VEVENT
BEGIN:VEVENT
DTSTART;TZID=UTC:20210923T200000
DTEND;TZID=UTC:20210923T230000
DTSTAMP:20260423T170638
CREATED:20210906T131027Z
LAST-MODIFIED:20210906T131043Z
UID:4221-1632427200-1632438000@olof.nl
SUMMARY:Jaarclubvormingsavond
DESCRIPTION:
URL:https://olof.nl/event/jaarclubvormingsavond-2/
END:VEVENT
BEGIN:VEVENT
DTSTART;TZID=UTC:20210924T200000
DTEND;TZID=UTC:20210924T233000
DTSTAMP:20260423T170638
CREATED:20210906T130339Z
LAST-MODIFIED:20210906T130722Z
UID:4208-1632513600-1632526200@olof.nl
SUMMARY:Disputenborrel Arwen
DESCRIPTION:
URL:https://olof.nl/event/in-en-uitstroom/
END:VEVENT
BEGIN:VEVENT
DTSTART;TZID=UTC:20210927T200000
DTEND;TZID=UTC:20210927T230000
DTSTAMP:20260423T170638
CREATED:20210906T131314Z
LAST-MODIFIED:20210918T091602Z
UID:4223-1632772800-1632783600@olof.nl
SUMMARY:ELV
DESCRIPTION:
URL:https://olof.nl/event/elv-alv/
END:VEVENT
BEGIN:VEVENT
DTSTART;TZID=UTC:20210928T200000
DTEND;TZID=UTC:20210928T230000
DTSTAMP:20260423T170638
CREATED:20210906T131338Z
LAST-MODIFIED:20220821T113420Z
UID:4225-1632859200-1632870000@olof.nl
SUMMARY:Jaarclubvormingsavond
DESCRIPTION:
URL:https://olof.nl/event/jaarclubvormingsavond-3/2021-09-28/
END:VEVENT
BEGIN:VEVENT
DTSTART;TZID=UTC:20210930T190000
DTEND;TZID=UTC:20210930T233000
DTSTAMP:20260423T170638
CREATED:20210906T131424Z
LAST-MODIFIED:20210929T125618Z
UID:4227-1633028400-1633044600@olof.nl
SUMMARY:Open Feest
DESCRIPTION:
URL:https://olof.nl/event/open-feest/
LOCATION:Sociëteit Asgard\, Spoorlaan\, Tilburg\, Noord-Brabant\, 5038CC\, Nederland
END:VEVENT
END:VCALENDAR