BEGIN:VCALENDAR
VERSION:2.0
PRODID:-//Olof - ECPv6.15.20//NONSGML v1.0//EN
CALSCALE:GREGORIAN
METHOD:PUBLISH
X-WR-CALNAME:Olof
X-ORIGINAL-URL:https://olof.nl
X-WR-CALDESC:Evenementen voor Olof
REFRESH-INTERVAL;VALUE=DURATION:PT1H
X-Robots-Tag:noindex
X-PUBLISHED-TTL:PT1H
BEGIN:VTIMEZONE
TZID:UTC
BEGIN:STANDARD
TZOFFSETFROM:+0000
TZOFFSETTO:+0000
TZNAME:UTC
DTSTART:20200101T000000
END:STANDARD
END:VTIMEZONE
BEGIN:VEVENT
DTSTART;TZID=UTC:20211206T080000
DTEND;TZID=UTC:20220110T170000
DTSTAMP:20260423T110335
CREATED:20211004T173833Z
LAST-MODIFIED:20211210T142124Z
UID:4301-1638777600-1641834000@olof.nl
SUMMARY:Reces
DESCRIPTION:
URL:https://olof.nl/event/recess/
END:VEVENT
BEGIN:VEVENT
DTSTART;TZID=UTC:20220111T200000
DTEND;TZID=UTC:20220111T230000
DTSTAMP:20260423T110335
CREATED:20211210T132852Z
LAST-MODIFIED:20211210T132852Z
UID:4345-1641931200-1641942000@olof.nl
SUMMARY:Commissieavond
DESCRIPTION:
URL:https://olof.nl/event/commissieavond-7/
END:VEVENT
BEGIN:VEVENT
DTSTART;TZID=UTC:20220112T200000
DTEND;TZID=UTC:20220112T230000
DTSTAMP:20260423T110335
CREATED:20211210T133003Z
LAST-MODIFIED:20211210T133036Z
UID:4347-1642017600-1642028400@olof.nl
SUMMARY:Nieuwjaarsborrel
DESCRIPTION:
URL:https://olof.nl/event/nieuwjaarsborrel/
END:VEVENT
BEGIN:VEVENT
DTSTART;TZID=UTC:20220113T190000
DTEND;TZID=UTC:20220113T230000
DTSTAMP:20260423T110335
CREATED:20211210T133146Z
LAST-MODIFIED:20211210T133146Z
UID:4349-1642100400-1642114800@olof.nl
SUMMARY:Olof Culinair
DESCRIPTION:
URL:https://olof.nl/event/olof-culinair-5/
END:VEVENT
BEGIN:VEVENT
DTSTART;TZID=UTC:20220117T190000
DTEND;TZID=UTC:20220117T230000
DTSTAMP:20260423T110335
CREATED:20211210T133228Z
LAST-MODIFIED:20211210T133228Z
UID:4351-1642446000-1642460400@olof.nl
SUMMARY:Jaarclubavond
DESCRIPTION:
URL:https://olof.nl/event/jaarclubavond-3/
END:VEVENT
BEGIN:VEVENT
DTSTART;TZID=UTC:20220118T200000
DTEND;TZID=UTC:20220118T230000
DTSTAMP:20260423T110335
CREATED:20211210T133258Z
LAST-MODIFIED:20211210T133258Z
UID:4353-1642536000-1642546800@olof.nl
SUMMARY:Commissieavond
DESCRIPTION:
URL:https://olof.nl/event/commissieavond-8/
END:VEVENT
BEGIN:VEVENT
DTSTART;TZID=UTC:20220124T190000
DTEND;TZID=UTC:20220124T230000
DTSTAMP:20260423T110335
CREATED:20211210T133344Z
LAST-MODIFIED:20211210T133344Z
UID:4355-1643050800-1643065200@olof.nl
SUMMARY:Jaarclubavond
DESCRIPTION:
URL:https://olof.nl/event/jaarclubavond-5/
END:VEVENT
BEGIN:VEVENT
DTSTART;TZID=UTC:20220125T190000
DTEND;TZID=UTC:20220125T230000
DTSTAMP:20260423T110335
CREATED:20211210T133408Z
LAST-MODIFIED:20211210T133408Z
UID:4357-1643137200-1643151600@olof.nl
SUMMARY:Commissieavond
DESCRIPTION:
URL:https://olof.nl/event/commissieavond-9/
END:VEVENT
BEGIN:VEVENT
DTSTART;TZID=UTC:20220127T190000
DTEND;TZID=UTC:20220127T230000
DTSTAMP:20260423T110335
CREATED:20211210T133441Z
LAST-MODIFIED:20211210T133441Z
UID:4359-1643310000-1643324400@olof.nl
SUMMARY:Open Feest
DESCRIPTION:
URL:https://olof.nl/event/open-feest-4/
END:VEVENT
BEGIN:VEVENT
DTSTART;VALUE=DATE:20220128
DTEND;VALUE=DATE:20220205
DTSTAMP:20260423T110335
CREATED:20211210T133510Z
LAST-MODIFIED:20211210T133510Z
UID:4361-1643328000-1644019199@olof.nl
SUMMARY:Skireis
DESCRIPTION:
URL:https://olof.nl/event/skireis/
END:VEVENT
END:VCALENDAR