BEGIN:VCALENDAR
VERSION:2.0
PRODID:-//Olof - ECPv6.15.20//NONSGML v1.0//EN
CALSCALE:GREGORIAN
METHOD:PUBLISH
X-ORIGINAL-URL:https://olof.nl
X-WR-CALDESC:Evenementen voor Olof
REFRESH-INTERVAL;VALUE=DURATION:PT1H
X-Robots-Tag:noindex
X-PUBLISHED-TTL:PT1H
BEGIN:VTIMEZONE
TZID:UTC
BEGIN:STANDARD
TZOFFSETFROM:+0000
TZOFFSETTO:+0000
TZNAME:UTC
DTSTART:20210101T000000
END:STANDARD
END:VTIMEZONE
BEGIN:VEVENT
DTSTART;VALUE=DATE:20220128
DTEND;VALUE=DATE:20220205
DTSTAMP:20260423T094117
CREATED:20211210T133510Z
LAST-MODIFIED:20211210T133510Z
UID:4361-1643328000-1644019199@olof.nl
SUMMARY:Skireis
DESCRIPTION:
URL:https://olof.nl/event/skireis/
END:VEVENT
BEGIN:VEVENT
DTSTART;TZID=UTC:20220207T200000
DTEND;TZID=UTC:20220207T230000
DTSTAMP:20260423T094117
CREATED:20211210T133856Z
LAST-MODIFIED:20220516T153658Z
UID:4363-1644264000-1644274800@olof.nl
SUMMARY:Jaarclubavond
DESCRIPTION:
URL:https://olof.nl/event/jaarclubavond-7/2022-02-07/
END:VEVENT
BEGIN:VEVENT
DTSTART;TZID=UTC:20220208T200000
DTEND;TZID=UTC:20220208T230000
DTSTAMP:20260423T094117
CREATED:20211210T134103Z
LAST-MODIFIED:20211210T134103Z
UID:4372-1644350400-1644361200@olof.nl
SUMMARY:EDEL Bierestafette
DESCRIPTION:
URL:https://olof.nl/event/edel-bierestafette/2022-02-08/
END:VEVENT
BEGIN:VEVENT
DTSTART;TZID=UTC:20220210T190000
DTEND;TZID=UTC:20220210T230000
DTSTAMP:20260423T094117
CREATED:20211210T134229Z
LAST-MODIFIED:20211210T134656Z
UID:4375-1644519600-1644534000@olof.nl
SUMMARY:Olof Culinair
DESCRIPTION:
URL:https://olof.nl/event/olof-culinair-6/
END:VEVENT
BEGIN:VEVENT
DTSTART;TZID=UTC:20220214T200000
DTEND;TZID=UTC:20220214T230000
DTSTAMP:20260423T094117
CREATED:20211210T134347Z
LAST-MODIFIED:20211210T134347Z
UID:4378-1644868800-1644879600@olof.nl
SUMMARY:ALV
DESCRIPTION:
URL:https://olof.nl/event/alv-3/
END:VEVENT
BEGIN:VEVENT
DTSTART;VALUE=DATE:20220215
DTEND;VALUE=DATE:20220216
DTSTAMP:20260423T094117
CREATED:20211210T134427Z
LAST-MODIFIED:20211210T134427Z
UID:4380-1644883200-1644969599@olof.nl
SUMMARY:In-/Uitstroom
DESCRIPTION:
URL:https://olof.nl/event/in-uitstroom/
END:VEVENT
BEGIN:VEVENT
DTSTART;TZID=UTC:20220218T200000
DTEND;TZID=UTC:20220218T230000
DTSTAMP:20260423T094117
CREATED:20211210T134559Z
LAST-MODIFIED:20211210T134559Z
UID:4386-1645214400-1645225200@olof.nl
SUMMARY:Brut Beschuit Cantus
DESCRIPTION:
URL:https://olof.nl/event/brut-beschuit-cantus/
END:VEVENT
BEGIN:VEVENT
DTSTART;TZID=UTC:20220222T200000
DTEND;TZID=UTC:20220222T230000
DTSTAMP:20260423T094117
CREATED:20211210T134914Z
LAST-MODIFIED:20220516T153557Z
UID:4389-1645560000-1645570800@olof.nl
SUMMARY:Commissieavond
DESCRIPTION:
URL:https://olof.nl/event/commissieavond-10/2022-02-22/
END:VEVENT
BEGIN:VEVENT
DTSTART;TZID=UTC:20220224T200000
DTEND;TZID=UTC:20220224T230000
DTSTAMP:20260423T094117
CREATED:20211210T135101Z
LAST-MODIFIED:20211210T135101Z
UID:4396-1645732800-1645743600@olof.nl
SUMMARY:Open Feest
DESCRIPTION:
URL:https://olof.nl/event/open-feest-5/2022-02-24/
END:VEVENT
BEGIN:VEVENT
DTSTART;TZID=UTC:20220228T120000
DTEND;TZID=UTC:20220228T230000
DTSTAMP:20260423T094117
CREATED:20211210T135349Z
LAST-MODIFIED:20211210T135349Z
UID:4400-1646049600-1646089200@olof.nl
SUMMARY:Kongsi Carnaval
DESCRIPTION:
URL:https://olof.nl/event/kongsi-carnaval/
END:VEVENT
END:VCALENDAR