BEGIN:VCALENDAR
VERSION:2.0
PRODID:-//Olof - ECPv6.15.20//NONSGML v1.0//EN
CALSCALE:GREGORIAN
METHOD:PUBLISH
X-ORIGINAL-URL:https://olof.nl
X-WR-CALDESC:Evenementen voor Olof
REFRESH-INTERVAL;VALUE=DURATION:PT1H
X-Robots-Tag:noindex
X-PUBLISHED-TTL:PT1H
BEGIN:VTIMEZONE
TZID:UTC
BEGIN:STANDARD
TZOFFSETFROM:+0000
TZOFFSETTO:+0000
TZNAME:UTC
DTSTART:20210101T000000
END:STANDARD
END:VTIMEZONE
BEGIN:VEVENT
DTSTART;VALUE=DATE:20220303
DTEND;VALUE=DATE:20220307
DTSTAMP:20260423T082637
CREATED:20211210T135435Z
LAST-MODIFIED:20211210T135435Z
UID:4402-1646265600-1646611199@olof.nl
SUMMARY:CCT Reisje
DESCRIPTION:
URL:https://olof.nl/event/cct-reisje/
END:VEVENT
BEGIN:VEVENT
DTSTART;TZID=UTC:20220307T200000
DTEND;TZID=UTC:20220307T230000
DTSTAMP:20260423T082637
CREATED:20211210T135536Z
LAST-MODIFIED:20211210T135536Z
UID:4404-1646683200-1646694000@olof.nl
SUMMARY:IOC Activiteit
DESCRIPTION:
URL:https://olof.nl/event/ioc-activiteit/
END:VEVENT
BEGIN:VEVENT
DTSTART;TZID=UTC:20220310T200000
DTEND;TZID=UTC:20220310T230000
DTSTAMP:20260423T082637
CREATED:20211210T135852Z
LAST-MODIFIED:20211210T135852Z
UID:4408-1646942400-1646953200@olof.nl
SUMMARY:Iduna Lustrumreceptie
DESCRIPTION:
URL:https://olof.nl/event/iduna-lustrumreceptie/
END:VEVENT
BEGIN:VEVENT
DTSTART;TZID=UTC:20220311T150000
DTEND;TZID=UTC:20220311T200000
DTSTAMP:20260423T082637
CREATED:20220303T095204Z
LAST-MODIFIED:20220303T095204Z
UID:4483-1647010800-1647028800@olof.nl
SUMMARY:Speciaalbier VrijMibo
DESCRIPTION:
URL:https://olof.nl/event/speciaalbier-vrijmibo/
LOCATION:Café Bolle\, Piusplein 8\, Tilburg\, Noord-Brabant\, 5038 WL\, Nederland
END:VEVENT
BEGIN:VEVENT
DTSTART;TZID=UTC:20220313T120000
DTEND;TZID=UTC:20220313T235900
DTSTAMP:20260423T082637
CREATED:20211210T120001Z
LAST-MODIFIED:20211210T141017Z
UID:4412-1647172800-1647215940@olof.nl
SUMMARY:CuCo Activiteit
DESCRIPTION:
URL:https://olof.nl/event/cuco-activiteit/
END:VEVENT
BEGIN:VEVENT
DTSTART;TZID=UTC:20220314T193000
DTEND;TZID=UTC:20220314T230000
DTSTAMP:20260423T082637
CREATED:20220302T110045Z
LAST-MODIFIED:20220302T110045Z
UID:4473-1647286200-1647298800@olof.nl
SUMMARY:ELV
DESCRIPTION:
URL:https://olof.nl/event/elv-2/
END:VEVENT
BEGIN:VEVENT
DTSTART;TZID=UTC:20220316T200000
DTEND;TZID=UTC:20220316T230000
DTSTAMP:20260423T082637
CREATED:20211210T140135Z
LAST-MODIFIED:20211210T140135Z
UID:4416-1647460800-1647471600@olof.nl
SUMMARY:BRUT Lustrumreceptie
DESCRIPTION:
URL:https://olof.nl/event/brut-lustrumreceptie/
END:VEVENT
BEGIN:VEVENT
DTSTART;TZID=UTC:20220317T150000
DTEND;TZID=UTC:20220317T170000
DTSTAMP:20260423T082637
CREATED:20220302T110630Z
LAST-MODIFIED:20220302T110630Z
UID:4477-1647529200-1647536400@olof.nl
SUMMARY:Tilburg Studenten Symposium
DESCRIPTION:
URL:https://olof.nl/event/tilburg-studenten-symposium/
END:VEVENT
BEGIN:VEVENT
DTSTART;TZID=UTC:20220318T200000
DTEND;TZID=UTC:20220318T230000
DTSTAMP:20260423T082637
CREATED:20220302T110726Z
LAST-MODIFIED:20220302T110726Z
UID:4479-1647633600-1647644400@olof.nl
SUMMARY:Januaribal
DESCRIPTION:
URL:https://olof.nl/event/januaribal/
END:VEVENT
BEGIN:VEVENT
DTSTART;TZID=UTC:20220321T200000
DTEND;TZID=UTC:20220321T230000
DTSTAMP:20260423T082637
CREATED:20220304T145827Z
LAST-MODIFIED:20220304T145828Z
UID:4498-1647892800-1647903600@olof.nl
SUMMARY:Eerstejaarsgala
DESCRIPTION:
URL:https://olof.nl/event/eerstejaarsgala/
END:VEVENT
BEGIN:VEVENT
DTSTART;TZID=UTC:20220324T190000
DTEND;TZID=UTC:20220324T230000
DTSTAMP:20260423T082637
CREATED:20211210T134229Z
LAST-MODIFIED:20211210T134649Z
UID:4377-1648148400-1648162800@olof.nl
SUMMARY:Olof Culinair
DESCRIPTION:
URL:https://olof.nl/event/olof-culinair-6-2022-03-24/2022-03-24/
END:VEVENT
END:VCALENDAR