BEGIN:VCALENDAR
VERSION:2.0
PRODID:-//Olof - ECPv6.15.20//NONSGML v1.0//EN
CALSCALE:GREGORIAN
METHOD:PUBLISH
X-ORIGINAL-URL:https://olof.nl
X-WR-CALDESC:Evenementen voor Olof
REFRESH-INTERVAL;VALUE=DURATION:PT1H
X-Robots-Tag:noindex
X-PUBLISHED-TTL:PT1H
BEGIN:VTIMEZONE
TZID:UTC
BEGIN:STANDARD
TZOFFSETFROM:+0000
TZOFFSETTO:+0000
TZNAME:UTC
DTSTART:20210101T000000
END:STANDARD
END:VTIMEZONE
BEGIN:VEVENT
DTSTART;TZID=UTC:20220503T200000
DTEND;TZID=UTC:20220503T230000
DTSTAMP:20260423T053056
CREATED:20211210T140759Z
LAST-MODIFIED:20211210T140759Z
UID:4429-1651608000-1651618800@olof.nl
SUMMARY:Punch Lustrumreceptie
DESCRIPTION:
URL:https://olof.nl/event/punch-lustrumreceptie/
END:VEVENT
BEGIN:VEVENT
DTSTART;TZID=UTC:20220505T120000
DTEND;TZID=UTC:20220505T235900
DTSTAMP:20260423T053056
CREATED:20211210T140817Z
LAST-MODIFIED:20211210T140832Z
UID:4431-1651752000-1651795140@olof.nl
SUMMARY:SBF
DESCRIPTION:
URL:https://olof.nl/event/sbf/
END:VEVENT
BEGIN:VEVENT
DTSTART;TZID=UTC:20220506T200000
DTEND;TZID=UTC:20220506T233000
DTSTAMP:20260423T053056
CREATED:20220106T152638Z
LAST-MODIFIED:20220106T152638Z
UID:4452-1651867200-1651879800@olof.nl
SUMMARY:Odin lustrumreceptie
DESCRIPTION:
URL:https://olof.nl/event/odin-lustrumreceptie/
CATEGORIES:Feest
END:VEVENT
BEGIN:VEVENT
DTSTART;TZID=UTC:20220507T130000
DTEND;TZID=UTC:20220507T180000
DTSTAMP:20260423T053056
CREATED:20220303T165050Z
LAST-MODIFIED:20220303T165050Z
UID:4487-1651928400-1651946400@olof.nl
SUMMARY:Tilburgdag
DESCRIPTION:
URL:https://olof.nl/event/tilburgdag/
LOCATION:Tilburg
END:VEVENT
BEGIN:VEVENT
DTSTART;TZID=UTC:20220511T120000
DTEND;TZID=UTC:20220511T230000
DTSTAMP:20260423T053056
CREATED:20211210T141111Z
LAST-MODIFIED:20211210T141111Z
UID:4433-1652270400-1652310000@olof.nl
SUMMARY:Bakboord Festival
DESCRIPTION:
URL:https://olof.nl/event/bakboord-festival-2/
END:VEVENT
BEGIN:VEVENT
DTSTART;TZID=UTC:20220512T200000
DTEND;TZID=UTC:20220512T230000
DTSTAMP:20260423T053056
CREATED:20211210T142205Z
LAST-MODIFIED:20211210T142205Z
UID:4442-1652385600-1652396400@olof.nl
SUMMARY:Open Feest
DESCRIPTION:
URL:https://olof.nl/event/open-feest-6/
END:VEVENT
BEGIN:VEVENT
DTSTART;TZID=UTC:20220514T120000
DTEND;TZID=UTC:20220514T235900
DTSTAMP:20260423T053056
CREATED:20211210T135932Z
LAST-MODIFIED:20220303T095358Z
UID:4410-1652529600-1652572740@olof.nl
SUMMARY:VVO Activiteit
DESCRIPTION:
URL:https://olof.nl/event/vvo-activiteit/
LOCATION:Utrecht
END:VEVENT
BEGIN:VEVENT
DTSTART;TZID=UTC:20220514T200000
DTEND;TZID=UTC:20220514T230000
DTSTAMP:20260423T053056
CREATED:20220304T145530Z
LAST-MODIFIED:20220404T094650Z
UID:4490-1652558400-1652569200@olof.nl
SUMMARY:Floret Lustrumreceptie
DESCRIPTION:
URL:https://olof.nl/event/floret-lustrumreceptie/
END:VEVENT
BEGIN:VEVENT
DTSTART;TZID=UTC:20220517T200000
DTEND;TZID=UTC:20220517T230000
DTSTAMP:20260423T053056
CREATED:20220207T135731Z
LAST-MODIFIED:20220207T135731Z
UID:4460-1652817600-1652828400@olof.nl
SUMMARY:Beau Geste Lustrumreceptie
DESCRIPTION:
URL:https://olof.nl/event/beau-geste-lustrumreceptie/
END:VEVENT
BEGIN:VEVENT
DTSTART;TZID=UTC:20220518T200000
DTEND;TZID=UTC:20220518T230000
DTSTAMP:20260423T053056
CREATED:20220316T111053Z
LAST-MODIFIED:20220316T111053Z
UID:4526-1652904000-1652914800@olof.nl
SUMMARY:Senaatsbekendmaking
DESCRIPTION:
URL:https://olof.nl/event/senaatsbekendmaking-2/
END:VEVENT
BEGIN:VEVENT
DTSTART;TZID=UTC:20220519T200000
DTEND;TZID=UTC:20220519T230000
DTSTAMP:20260423T053056
CREATED:20211210T141203Z
LAST-MODIFIED:20211210T141203Z
UID:4435-1652990400-1653001200@olof.nl
SUMMARY:ADAT Lustrumreceptie
DESCRIPTION:
URL:https://olof.nl/event/adat-lustrumreceptie/
END:VEVENT
BEGIN:VEVENT
DTSTART;TZID=UTC:20220524T220000
DTEND;TZID=UTC:20220524T233000
DTSTAMP:20260423T053056
CREATED:20220503T125851Z
LAST-MODIFIED:20220821T115640Z
UID:4561-1653429600-1653435000@olof.nl
SUMMARY:Open Feest
DESCRIPTION:
URL:https://olof.nl/event/open-feest-7/2022-05-24/
END:VEVENT
BEGIN:VEVENT
DTSTART;TZID=UTC:20220530T080000
DTEND;TZID=UTC:20220530T170000
DTSTAMP:20260423T053056
CREATED:20220516T153828Z
LAST-MODIFIED:20220516T153828Z
UID:4575-1653897600-1653930000@olof.nl
SUMMARY:Start Komkommertijd
DESCRIPTION:
URL:https://olof.nl/event/start-komkommertijd-3/
END:VEVENT
END:VCALENDAR