BEGIN:VCALENDAR
VERSION:2.0
PRODID:-//Olof - ECPv6.15.20//NONSGML v1.0//EN
CALSCALE:GREGORIAN
METHOD:PUBLISH
X-WR-CALNAME:Olof
X-ORIGINAL-URL:https://olof.nl
X-WR-CALDESC:Evenementen voor Olof
REFRESH-INTERVAL;VALUE=DURATION:PT1H
X-Robots-Tag:noindex
X-PUBLISHED-TTL:PT1H
BEGIN:VTIMEZONE
TZID:UTC
BEGIN:STANDARD
TZOFFSETFROM:+0000
TZOFFSETTO:+0000
TZNAME:UTC
DTSTART:20210101T000000
END:STANDARD
END:VTIMEZONE
BEGIN:VEVENT
DTSTART;TZID=UTC:20220606T200000
DTEND;TZID=UTC:20220606T230000
DTSTAMP:20260423T035721
CREATED:20220525T130117Z
LAST-MODIFIED:20220525T130117Z
UID:4585-1654545600-1654556400@olof.nl
SUMMARY:ALV
DESCRIPTION:
URL:https://olof.nl/event/alv-4/
END:VEVENT
BEGIN:VEVENT
DTSTART;TZID=UTC:20220607T080000
DTEND;TZID=UTC:20220607T170000
DTSTAMP:20260423T035721
CREATED:20220516T154036Z
LAST-MODIFIED:20220821T120811Z
UID:4577-1654588800-1654621200@olof.nl
SUMMARY:Start Recess
DESCRIPTION:
URL:https://olof.nl/event/start-recess/2022-06-07/
END:VEVENT
BEGIN:VEVENT
DTSTART;TZID=UTC:20220626T120000
DTEND;TZID=UTC:20220626T170000
DTSTAMP:20260423T035721
CREATED:20220316T111008Z
LAST-MODIFIED:20220316T111008Z
UID:4524-1656244800-1656262800@olof.nl
SUMMARY:University Hockey League
DESCRIPTION:
URL:https://olof.nl/event/university-hockey-league-2/
END:VEVENT
END:VCALENDAR