BEGIN:VCALENDAR
VERSION:2.0
PRODID:-//Olof - ECPv6.15.20//NONSGML v1.0//EN
CALSCALE:GREGORIAN
METHOD:PUBLISH
X-ORIGINAL-URL:https://olof.nl
X-WR-CALDESC:Evenementen voor Olof
REFRESH-INTERVAL;VALUE=DURATION:PT1H
X-Robots-Tag:noindex
X-PUBLISHED-TTL:PT1H
BEGIN:VTIMEZONE
TZID:UTC
BEGIN:STANDARD
TZOFFSETFROM:+0000
TZOFFSETTO:+0000
TZNAME:UTC
DTSTART:20210101T000000
END:STANDARD
END:VTIMEZONE
BEGIN:VEVENT
DTSTART;VALUE=DATE:20221004
DTEND;VALUE=DATE:20221013
DTSTAMP:20260422T220452
CREATED:20200903T102821Z
LAST-MODIFIED:20220821T114019Z
UID:3398-1664841600-1665619199@olof.nl
SUMMARY:Dispensatiedagen
DESCRIPTION:Disputen en vriendenclubs nodigen eerstejaars leden uit voor een compleet georganiseerde dag waarbij de eerstejaars hun keuze maken bij welk dispuut of vriendenclub ze willen aansluiten.
URL:https://olof.nl/event/dispensatiedagen/2022-10-04/
LOCATION:Dispuutshuizen
END:VEVENT
BEGIN:VEVENT
DTSTART;TZID=UTC:20221024T180000
DTEND;TZID=UTC:20221024T233000
DTSTAMP:20260422T220452
CREATED:20220821T114405Z
LAST-MODIFIED:20220821T175325Z
UID:4619-1666634400-1666654200@olof.nl
SUMMARY:De Maandagavond
DESCRIPTION:
URL:https://olof.nl/event/de-maandagavond/2022-10-24/
END:VEVENT
BEGIN:VEVENT
DTSTART;TZID=UTC:20221025T200000
DTEND;TZID=UTC:20221025T233000
DTSTAMP:20260422T220452
CREATED:20221014T102050Z
LAST-MODIFIED:20221014T102050Z
UID:4689-1666728000-1666740600@olof.nl
SUMMARY:Openfeest
DESCRIPTION:
URL:https://olof.nl/event/openfeest-2/
END:VEVENT
BEGIN:VEVENT
DTSTART;TZID=UTC:20221027T200000
DTEND;TZID=UTC:20221027T233000
DTSTAMP:20260422T220452
CREATED:20220821T114536Z
LAST-MODIFIED:20220821T114610Z
UID:4622-1666900800-1666913400@olof.nl
SUMMARY:Kongsi Lustrumreceptie
DESCRIPTION:
URL:https://olof.nl/event/kongsi-lustrumreceptie/
END:VEVENT
END:VCALENDAR