BEGIN:VCALENDAR
VERSION:2.0
PRODID:-//Olof - ECPv6.15.20//NONSGML v1.0//EN
CALSCALE:GREGORIAN
METHOD:PUBLISH
X-ORIGINAL-URL:https://olof.nl
X-WR-CALDESC:Evenementen voor Olof
REFRESH-INTERVAL;VALUE=DURATION:PT1H
X-Robots-Tag:noindex
X-PUBLISHED-TTL:PT1H
BEGIN:VTIMEZONE
TZID:UTC
BEGIN:STANDARD
TZOFFSETFROM:+0000
TZOFFSETTO:+0000
TZNAME:UTC
DTSTART:20210101T000000
END:STANDARD
END:VTIMEZONE
BEGIN:VEVENT
DTSTART;TZID=UTC:20221101T193000
DTEND;TZID=UTC:20221101T233000
DTSTAMP:20260422T203955
CREATED:20220821T175215Z
LAST-MODIFIED:20220821T175215Z
UID:4649-1667331000-1667345400@olof.nl
SUMMARY:Kroegjool
DESCRIPTION:
URL:https://olof.nl/event/kroegjool/
END:VEVENT
BEGIN:VEVENT
DTSTART;TZID=UTC:20221107T200000
DTEND;TZID=UTC:20221107T233000
DTSTAMP:20260422T203955
CREATED:20220821T115322Z
LAST-MODIFIED:20220915T151338Z
UID:4627-1667851200-1667863800@olof.nl
SUMMARY:Clubcie Evenement
DESCRIPTION:
URL:https://olof.nl/event/clubcie-activiteit/
END:VEVENT
BEGIN:VEVENT
DTSTART;TZID=UTC:20221110T200000
DTEND;TZID=UTC:20221110T230000
DTSTAMP:20260422T203955
CREATED:20220302T110332Z
LAST-MODIFIED:20221107T200740Z
UID:4475-1668110400-1668121200@olof.nl
SUMMARY:Olof Culi
DESCRIPTION:
URL:https://olof.nl/event/hunky-dooly-lustrumreceptie/
END:VEVENT
BEGIN:VEVENT
DTSTART;VALUE=DATE:20221113
DTEND;VALUE=DATE:20221114
DTSTAMP:20260422T203955
CREATED:20221024T134155Z
LAST-MODIFIED:20221024T134155Z
UID:4693-1668297600-1668383999@olof.nl
SUMMARY:Ouderdag
DESCRIPTION:
URL:https://olof.nl/event/ouderdag/
END:VEVENT
BEGIN:VEVENT
DTSTART;VALUE=DATE:20221114
DTEND;VALUE=DATE:20221118
DTSTAMP:20260422T203955
CREATED:20220821T115528Z
LAST-MODIFIED:20220821T164048Z
UID:4631-1668384000-1668729599@olof.nl
SUMMARY:Tilburg Career Days
DESCRIPTION:
URL:https://olof.nl/event/tilburg-career-days-2/
END:VEVENT
BEGIN:VEVENT
DTSTART;TZID=UTC:20221117T123000
DTEND;TZID=UTC:20221117T170000
DTSTAMP:20260422T203955
CREATED:20220821T115612Z
LAST-MODIFIED:20220821T115612Z
UID:4633-1668688200-1668704400@olof.nl
SUMMARY:Dies Natalis Tilburg University
DESCRIPTION:
URL:https://olof.nl/event/dies-natalis-tilburg-university/
END:VEVENT
BEGIN:VEVENT
DTSTART;TZID=UTC:20221121T160000
DTEND;TZID=UTC:20221121T230000
DTSTAMP:20260422T203955
CREATED:20220821T115719Z
LAST-MODIFIED:20220821T120354Z
UID:4637-1669046400-1669071600@olof.nl
SUMMARY:WK Wedstrijd #1
DESCRIPTION:Senegal – Nederland (17u Nederlandse tijd)
URL:https://olof.nl/event/wk-wedstrijd-1/
END:VEVENT
BEGIN:VEVENT
DTSTART;TZID=UTC:20221125T200000
DTEND;TZID=UTC:20221125T235900
DTSTAMP:20260422T203955
CREATED:20220906T102319Z
LAST-MODIFIED:20220906T102405Z
UID:4663-1669406400-1669420740@olof.nl
SUMMARY:Lustrumreceptie Pallieter
DESCRIPTION:
URL:https://olof.nl/event/lustrumreceptie-pallieter/
END:VEVENT
END:VCALENDAR