BEGIN:VCALENDAR
VERSION:2.0
PRODID:-//Olof - ECPv6.15.20//NONSGML v1.0//EN
CALSCALE:GREGORIAN
METHOD:PUBLISH
X-ORIGINAL-URL:https://olof.nl
X-WR-CALDESC:Evenementen voor Olof
REFRESH-INTERVAL;VALUE=DURATION:PT1H
X-Robots-Tag:noindex
X-PUBLISHED-TTL:PT1H
BEGIN:VTIMEZONE
TZID:UTC
BEGIN:STANDARD
TZOFFSETFROM:+0000
TZOFFSETTO:+0000
TZNAME:UTC
DTSTART:20210101T000000
END:STANDARD
END:VTIMEZONE
BEGIN:VEVENT
DTSTART;TZID=UTC:20221201T200000
DTEND;TZID=UTC:20221201T233000
DTSTAMP:20260422T192032
CREATED:20220921T162952Z
LAST-MODIFIED:20220921T162952Z
UID:4679-1669924800-1669937400@olof.nl
SUMMARY:Lustrumreceptie Les Sauvages
DESCRIPTION:
URL:https://olof.nl/event/lustrumreceptie-les-sauvages/
END:VEVENT
BEGIN:VEVENT
DTSTART;TZID=UTC:20221222T220000
DTEND;TZID=UTC:20221222T233000
DTSTAMP:20260422T192032
CREATED:20221122T150445Z
LAST-MODIFIED:20221122T151014Z
UID:4703-1671746400-1671751800@olof.nl
SUMMARY:Open Feest
DESCRIPTION:
URL:https://olof.nl/event/open-feest-8/
END:VEVENT
END:VCALENDAR