BEGIN:VCALENDAR
VERSION:2.0
PRODID:-//Olof - ECPv6.15.20//NONSGML v1.0//EN
CALSCALE:GREGORIAN
METHOD:PUBLISH
X-WR-CALNAME:Olof
X-ORIGINAL-URL:https://olof.nl
X-WR-CALDESC:Evenementen voor Olof
REFRESH-INTERVAL;VALUE=DURATION:PT1H
X-Robots-Tag:noindex
X-PUBLISHED-TTL:PT1H
BEGIN:VTIMEZONE
TZID:UTC
BEGIN:STANDARD
TZOFFSETFROM:+0000
TZOFFSETTO:+0000
TZNAME:UTC
DTSTART:20220101T000000
END:STANDARD
END:VTIMEZONE
BEGIN:VEVENT
DTSTART;VALUE=DATE:20230128
DTEND;VALUE=DATE:20230205
DTSTAMP:20260422T160540
CREATED:20220915T151811Z
LAST-MODIFIED:20220915T151811Z
UID:4677-1674864000-1675555199@olof.nl
SUMMARY:Skireis
DESCRIPTION:
URL:https://olof.nl/event/skireis-2/
END:VEVENT
BEGIN:VEVENT
DTSTART;TZID=UTC:20230207T180000
DTEND;TZID=UTC:20230207T233000
DTSTAMP:20260422T160540
CREATED:20221122T152030Z
LAST-MODIFIED:20221122T152030Z
UID:4716-1675792800-1675812600@olof.nl
SUMMARY:Doekenborrel
DESCRIPTION:
URL:https://olof.nl/event/doekenborrel/
END:VEVENT
BEGIN:VEVENT
DTSTART;VALUE=DATE:20230208
DTEND;VALUE=DATE:20230209
DTSTAMP:20260422T160540
CREATED:20221122T151724Z
LAST-MODIFIED:20221122T151947Z
UID:4714-1675814400-1675900799@olof.nl
SUMMARY:In/Uitstroom
DESCRIPTION:
URL:https://olof.nl/event/in-uitstroom-2/
END:VEVENT
BEGIN:VEVENT
DTSTART;TZID=UTC:20230210T203000
DTEND;TZID=UTC:20230210T233000
DTSTAMP:20260422T160540
CREATED:20221122T151403Z
LAST-MODIFIED:20221122T151403Z
UID:4709-1676061000-1676071800@olof.nl
SUMMARY:Januaribal
DESCRIPTION:
URL:https://olof.nl/event/januaribal-3/
END:VEVENT
BEGIN:VEVENT
DTSTART;TZID=UTC:20230216T220000
DTEND;TZID=UTC:20230216T233000
DTSTAMP:20260422T160540
CREATED:20221122T151438Z
LAST-MODIFIED:20221122T151438Z
UID:4711-1676584800-1676590200@olof.nl
SUMMARY:CV Open Feest
DESCRIPTION:
URL:https://olof.nl/event/cv-open-feest/
END:VEVENT
BEGIN:VEVENT
DTSTART;VALUE=DATE:20230220
DTEND;VALUE=DATE:20230221
DTSTAMP:20260422T160540
CREATED:20221209T153241Z
LAST-MODIFIED:20221209T153241Z
UID:4737-1676851200-1676937599@olof.nl
SUMMARY:Kongsi CV
DESCRIPTION:
URL:https://olof.nl/event/kongsi-cv/
END:VEVENT
BEGIN:VEVENT
DTSTART;TZID=UTC:20230227T200000
DTEND;TZID=UTC:20230227T233000
DTSTAMP:20260422T160540
CREATED:20221209T132650Z
LAST-MODIFIED:20230110T113652Z
UID:4735-1677528000-1677540600@olof.nl
SUMMARY:ELV // ALV
DESCRIPTION:
URL:https://olof.nl/event/elv-alv-2/
END:VEVENT
END:VCALENDAR