BEGIN:VCALENDAR
VERSION:2.0
PRODID:-//Olof - ECPv6.15.20//NONSGML v1.0//EN
CALSCALE:GREGORIAN
METHOD:PUBLISH
X-WR-CALNAME:Olof
X-ORIGINAL-URL:https://olof.nl
X-WR-CALDESC:Evenementen voor Olof
REFRESH-INTERVAL;VALUE=DURATION:PT1H
X-Robots-Tag:noindex
X-PUBLISHED-TTL:PT1H
BEGIN:VTIMEZONE
TZID:UTC
BEGIN:STANDARD
TZOFFSETFROM:+0000
TZOFFSETTO:+0000
TZNAME:UTC
DTSTART:20220101T000000
END:STANDARD
END:VTIMEZONE
BEGIN:VEVENT
DTSTART;TZID=UTC:20230505T150000
DTEND;TZID=UTC:20230505T230000
DTSTAMP:20260422T113002
CREATED:20230223T173712Z
LAST-MODIFIED:20230223T173712Z
UID:4850-1683298800-1683327600@olof.nl
SUMMARY:SBF
DESCRIPTION:
URL:https://olof.nl/event/sbf-2/
END:VEVENT
BEGIN:VEVENT
DTSTART;TZID=UTC:20230510T150000
DTEND;TZID=UTC:20230510T230000
DTSTAMP:20260422T113002
CREATED:20230223T173641Z
LAST-MODIFIED:20230223T173641Z
UID:4848-1683730800-1683759600@olof.nl
SUMMARY:BAKBOORD FESTIVAL
DESCRIPTION:
URL:https://olof.nl/event/bakboord-festival-3/
END:VEVENT
BEGIN:VEVENT
DTSTART;TZID=UTC:20230517T200000
DTEND;TZID=UTC:20230517T233000
DTSTAMP:20260422T113002
CREATED:20230223T173757Z
LAST-MODIFIED:20230223T173757Z
UID:4852-1684353600-1684366200@olof.nl
SUMMARY:Senaatsbekendmaking
DESCRIPTION:
URL:https://olof.nl/event/senaatsbekendmaking-3/
END:VEVENT
BEGIN:VEVENT
DTSTART;TZID=UTC:20230518T140000
DTEND;TZID=UTC:20230518T183000
DTSTAMP:20260422T113002
CREATED:20230306T200543Z
LAST-MODIFIED:20230306T200543Z
UID:4873-1684418400-1684434600@olof.nl
SUMMARY:IOC Activiteit
DESCRIPTION:
URL:https://olof.nl/event/ioc-activiteit-3/
END:VEVENT
BEGIN:VEVENT
DTSTART;TZID=UTC:20230520T150000
DTEND;TZID=UTC:20230520T210000
DTSTAMP:20260422T113002
CREATED:20230223T173836Z
LAST-MODIFIED:20230223T173836Z
UID:4854-1684594800-1684616400@olof.nl
SUMMARY:Olof Golftoernooi
DESCRIPTION:
URL:https://olof.nl/event/olof-golftoernooi/
END:VEVENT
BEGIN:VEVENT
DTSTART;TZID=UTC:20230522T200000
DTEND;TZID=UTC:20230522T233000
DTSTAMP:20260422T113002
CREATED:20230223T173928Z
LAST-MODIFIED:20230223T173928Z
UID:4856-1684785600-1684798200@olof.nl
SUMMARY:Stemmings ALV
DESCRIPTION:
URL:https://olof.nl/event/stemmings-alv/
END:VEVENT
BEGIN:VEVENT
DTSTART;TZID=UTC:20230525T220000
DTEND;TZID=UTC:20230525T233000
DTSTAMP:20260422T113002
CREATED:20230306T200622Z
LAST-MODIFIED:20230306T200622Z
UID:4875-1685052000-1685057400@olof.nl
SUMMARY:Open Feest
DESCRIPTION:
URL:https://olof.nl/event/open-feest-11/
END:VEVENT
END:VCALENDAR