BEGIN:VCALENDAR
VERSION:2.0
PRODID:-//Olof - ECPv6.15.20//NONSGML v1.0//EN
CALSCALE:GREGORIAN
METHOD:PUBLISH
X-WR-CALNAME:Olof
X-ORIGINAL-URL:https://olof.nl
X-WR-CALDESC:Evenementen voor Olof
REFRESH-INTERVAL;VALUE=DURATION:PT1H
X-Robots-Tag:noindex
X-PUBLISHED-TTL:PT1H
BEGIN:VTIMEZONE
TZID:UTC
BEGIN:STANDARD
TZOFFSETFROM:+0000
TZOFFSETTO:+0000
TZNAME:UTC
DTSTART:20220101T000000
END:STANDARD
END:VTIMEZONE
BEGIN:VEVENT
DTSTART;TZID=UTC:20230625T140000
DTEND;TZID=UTC:20230625T210000
DTSTAMP:20260422T100850
CREATED:20230327T075918Z
LAST-MODIFIED:20230327T100132Z
UID:4909-1687701600-1687726800@olof.nl
SUMMARY:UHL
DESCRIPTION:
URL:https://olof.nl/event/uhl/
END:VEVENT
END:VCALENDAR