BEGIN:VCALENDAR
VERSION:2.0
PRODID:-//Olof - ECPv6.15.20//NONSGML v1.0//EN
CALSCALE:GREGORIAN
METHOD:PUBLISH
X-ORIGINAL-URL:https://olof.nl
X-WR-CALDESC:Evenementen voor Olof
REFRESH-INTERVAL;VALUE=DURATION:PT1H
X-Robots-Tag:noindex
X-PUBLISHED-TTL:PT1H
BEGIN:VTIMEZONE
TZID:UTC
BEGIN:STANDARD
TZOFFSETFROM:+0000
TZOFFSETTO:+0000
TZNAME:UTC
DTSTART:20220101T000000
END:STANDARD
END:VTIMEZONE
BEGIN:VEVENT
DTSTART;VALUE=DATE:20230804
DTEND;VALUE=DATE:20230807
DTSTAMP:20260420T071731
CREATED:20230306T200725Z
LAST-MODIFIED:20230306T200725Z
UID:4879-1691107200-1691366399@olof.nl
SUMMARY:Olof Weekend
DESCRIPTION:
URL:https://olof.nl/event/olof-weekend-4/
END:VEVENT
BEGIN:VEVENT
DTSTART;VALUE=DATE:20230821
DTEND;VALUE=DATE:20230826
DTSTAMP:20260420T071731
CREATED:20230306T200830Z
LAST-MODIFIED:20230306T200830Z
UID:4881-1692576000-1693007999@olof.nl
SUMMARY:TOP WEEK
DESCRIPTION:
URL:https://olof.nl/event/top-week-2/
END:VEVENT
END:VCALENDAR