BEGIN:VCALENDAR
VERSION:2.0
PRODID:-//Olof - ECPv6.15.20//NONSGML v1.0//EN
CALSCALE:GREGORIAN
METHOD:PUBLISH
X-ORIGINAL-URL:https://olof.nl
X-WR-CALDESC:Evenementen voor Olof
REFRESH-INTERVAL;VALUE=DURATION:PT1H
X-Robots-Tag:noindex
X-PUBLISHED-TTL:PT1H
BEGIN:VTIMEZONE
TZID:UTC
BEGIN:STANDARD
TZOFFSETFROM:+0000
TZOFFSETTO:+0000
TZNAME:UTC
DTSTART:20220101T000000
END:STANDARD
END:VTIMEZONE
BEGIN:VEVENT
DTSTART;TZID=UTC:20231102T200000
DTEND;TZID=UTC:20231102T233000
DTSTAMP:20260420T022849
CREATED:20231024T091502Z
LAST-MODIFIED:20231024T091502Z
UID:5169-1698955200-1698967800@olof.nl
SUMMARY:BaCo avond
DESCRIPTION:
URL:https://olof.nl/event/baco-avond/
END:VEVENT
BEGIN:VEVENT
DTSTART;TZID=UTC:20231102T200000
DTEND;TZID=UTC:20231102T233000
DTSTAMP:20260420T022849
CREATED:20231102T115806Z
LAST-MODIFIED:20231102T115806Z
UID:5207-1698955200-1698967800@olof.nl
SUMMARY:Commissieavond
DESCRIPTION:
URL:https://olof.nl/event/commissieavond-12/
END:VEVENT
BEGIN:VEVENT
DTSTART;TZID=UTC:20231106T190000
DTEND;TZID=UTC:20231106T233000
DTSTAMP:20260420T022849
CREATED:20230805T163623Z
LAST-MODIFIED:20230806T144135Z
UID:5056-1699297200-1699313400@olof.nl
SUMMARY:De maandagavond
DESCRIPTION:
URL:https://olof.nl/event/de-maandagavond-5/
END:VEVENT
BEGIN:VEVENT
DTSTART;TZID=UTC:20231107T200000
DTEND;TZID=UTC:20231107T233000
DTSTAMP:20260420T022849
CREATED:20230805T163730Z
LAST-MODIFIED:20230805T163730Z
UID:5058-1699387200-1699399800@olof.nl
SUMMARY:Commissie avond
DESCRIPTION:
URL:https://olof.nl/event/commissie-avond/
END:VEVENT
BEGIN:VEVENT
DTSTART;TZID=UTC:20231109T183000
DTEND;TZID=UTC:20231109T233000
DTSTAMP:20260420T022849
CREATED:20230805T163828Z
LAST-MODIFIED:20230805T163828Z
UID:5060-1699554600-1699572600@olof.nl
SUMMARY:Olof culi
DESCRIPTION:
URL:https://olof.nl/event/olof-culi-2/
END:VEVENT
BEGIN:VEVENT
DTSTART;VALUE=DATE:20231110
DTEND;VALUE=DATE:20231111
DTSTAMP:20260420T022849
CREATED:20230805T163934Z
LAST-MODIFIED:20230805T163934Z
UID:5062-1699574400-1699660799@olof.nl
SUMMARY:Lustrumreceptie Aone
DESCRIPTION:
URL:https://olof.nl/event/lustrumreceptie-aone/
END:VEVENT
BEGIN:VEVENT
DTSTART;TZID=UTC:20231112T120000
DTEND;TZID=UTC:20231112T220000
DTSTAMP:20260420T022849
CREATED:20230805T164056Z
LAST-MODIFIED:20230805T164056Z
UID:5064-1699790400-1699826400@olof.nl
SUMMARY:Ouderdag
DESCRIPTION:
URL:https://olof.nl/event/ouderdag-2/
END:VEVENT
BEGIN:VEVENT
DTSTART;VALUE=DATE:20231113
DTEND;VALUE=DATE:20231117
DTSTAMP:20260420T022849
CREATED:20230805T164142Z
LAST-MODIFIED:20230805T164142Z
UID:5066-1699833600-1700179199@olof.nl
SUMMARY:Tilburg Career Days
DESCRIPTION:
URL:https://olof.nl/event/tilburg-career-days-3/
END:VEVENT
BEGIN:VEVENT
DTSTART;TZID=UTC:20231120T190000
DTEND;TZID=UTC:20231120T233000
DTSTAMP:20260420T022849
CREATED:20230805T164258Z
LAST-MODIFIED:20230805T164258Z
UID:5068-1700506800-1700523000@olof.nl
SUMMARY:De maandagavond
DESCRIPTION:
URL:https://olof.nl/event/de-maandagavond-6/
END:VEVENT
BEGIN:VEVENT
DTSTART;TZID=UTC:20231123T220000
DTEND;TZID=UTC:20231123T233000
DTSTAMP:20260420T022849
CREATED:20231031T121954Z
LAST-MODIFIED:20231031T121954Z
UID:5182-1700776800-1700782200@olof.nl
SUMMARY:Open Feest
DESCRIPTION:
URL:https://olof.nl/event/open-feest-15/
END:VEVENT
BEGIN:VEVENT
DTSTART;TZID=UTC:20231127T183000
DTEND;TZID=UTC:20231127T233000
DTSTAMP:20260420T022849
CREATED:20231121T171612Z
LAST-MODIFIED:20231121T171612Z
UID:5270-1701109800-1701127800@olof.nl
SUMMARY:De maandagavond
DESCRIPTION:
URL:https://olof.nl/event/de-maandagavond-9/
END:VEVENT
BEGIN:VEVENT
DTSTART;TZID=UTC:20231128T200000
DTEND;TZID=UTC:20231128T233000
DTSTAMP:20260420T022849
CREATED:20230805T164424Z
LAST-MODIFIED:20230805T164424Z
UID:5070-1701201600-1701214200@olof.nl
SUMMARY:Baco activiteit
DESCRIPTION:
URL:https://olof.nl/event/baco-activiteit-2/
END:VEVENT
BEGIN:VEVENT
DTSTART;VALUE=DATE:20231130
DTEND;VALUE=DATE:20231201
DTSTAMP:20260420T022849
CREATED:20230914T101315Z
LAST-MODIFIED:20230914T101315Z
UID:5089-1701302400-1701388799@olof.nl
SUMMARY:Cartouche Lustrumreceptie
DESCRIPTION:
URL:https://olof.nl/event/cartouche-lustrumreceptie/
END:VEVENT
END:VCALENDAR