BEGIN:VCALENDAR
VERSION:2.0
PRODID:-//Olof - ECPv6.15.20//NONSGML v1.0//EN
CALSCALE:GREGORIAN
METHOD:PUBLISH
X-ORIGINAL-URL:https://olof.nl
X-WR-CALDESC:Evenementen voor Olof
REFRESH-INTERVAL;VALUE=DURATION:PT1H
X-Robots-Tag:noindex
X-PUBLISHED-TTL:PT1H
BEGIN:VTIMEZONE
TZID:UTC
BEGIN:STANDARD
TZOFFSETFROM:+0000
TZOFFSETTO:+0000
TZNAME:UTC
DTSTART:20230101T000000
END:STANDARD
END:VTIMEZONE
BEGIN:VEVENT
DTSTART;TZID=UTC:20240301T210000
DTEND;TZID=UTC:20240301T233000
DTSTAMP:20260419T202811
CREATED:20240103T130011Z
LAST-MODIFIED:20240103T130011Z
UID:5372-1709326800-1709335800@olof.nl
SUMMARY:Lustrumreceptie Sorriso
DESCRIPTION:
URL:https://olof.nl/event/lustrumreceptie-sorriso/
END:VEVENT
BEGIN:VEVENT
DTSTART;TZID=UTC:20240304T190000
DTEND;TZID=UTC:20240304T233000
DTSTAMP:20260419T202811
CREATED:20240103T130211Z
LAST-MODIFIED:20240103T130211Z
UID:5374-1709578800-1709595000@olof.nl
SUMMARY:Eerstejaarsavond
DESCRIPTION:
URL:https://olof.nl/event/eerstejaarsavond-2/
END:VEVENT
BEGIN:VEVENT
DTSTART;TZID=UTC:20240305T200000
DTEND;TZID=UTC:20240305T233000
DTSTAMP:20260419T202811
CREATED:20240103T130337Z
LAST-MODIFIED:20240103T130337Z
UID:5376-1709668800-1709681400@olof.nl
SUMMARY:Commissieavond
DESCRIPTION:
URL:https://olof.nl/event/commissieavond-14/
END:VEVENT
BEGIN:VEVENT
DTSTART;TZID=UTC:20240307T190000
DTEND;TZID=UTC:20240307T233000
DTSTAMP:20260419T202811
CREATED:20240103T130502Z
LAST-MODIFIED:20240229T195559Z
UID:5378-1709838000-1709854200@olof.nl
SUMMARY:Olof Culi
DESCRIPTION:
URL:https://olof.nl/event/olof-culi-4/
END:VEVENT
BEGIN:VEVENT
DTSTART;TZID=UTC:20240308T150000
DTEND;TZID=UTC:20240308T230000
DTSTAMP:20260419T202811
CREATED:20240106T131109Z
LAST-MODIFIED:20240106T131109Z
UID:5394-1709910000-1709938800@olof.nl
SUMMARY:HD Winterfest
DESCRIPTION:
URL:https://olof.nl/event/hd-winterfest/
END:VEVENT
BEGIN:VEVENT
DTSTART;TZID=UTC:20240311T200000
DTEND;TZID=UTC:20240311T233000
DTSTAMP:20260419T202811
CREATED:20231102T120709Z
LAST-MODIFIED:20240222T084655Z
UID:5221-1710187200-1710199800@olof.nl
SUMMARY:ALV + ELV
DESCRIPTION:
URL:https://olof.nl/event/alv-elv/
END:VEVENT
BEGIN:VEVENT
DTSTART;TZID=UTC:20240312T200000
DTEND;TZID=UTC:20240312T233000
DTSTAMP:20260419T202811
CREATED:20240103T130711Z
LAST-MODIFIED:20240103T130742Z
UID:5382-1710273600-1710286200@olof.nl
SUMMARY:Commissieavond
DESCRIPTION:
URL:https://olof.nl/event/commissieavond-15/
END:VEVENT
BEGIN:VEVENT
DTSTART;TZID=UTC:20240318T190000
DTEND;TZID=UTC:20240318T233000
DTSTAMP:20260419T202811
CREATED:20240103T131002Z
LAST-MODIFIED:20240103T131002Z
UID:5384-1710788400-1710804600@olof.nl
SUMMARY:Eerstejaarsavond
DESCRIPTION:
URL:https://olof.nl/event/eerstejaarsavond-4/
END:VEVENT
BEGIN:VEVENT
DTSTART;TZID=UTC:20240319T193000
DTEND;TZID=UTC:20240319T230000
DTSTAMP:20260419T202811
CREATED:20240103T131046Z
LAST-MODIFIED:20240304T194543Z
UID:5386-1710876600-1710889200@olof.nl
SUMMARY:CuCo activiteit
DESCRIPTION:
URL:https://olof.nl/event/commissieavond-16/
END:VEVENT
BEGIN:VEVENT
DTSTART;TZID=UTC:20240322T120000
DTEND;TZID=UTC:20240322T233000
DTSTAMP:20260419T202811
CREATED:20240103T131159Z
LAST-MODIFIED:20240103T131159Z
UID:5388-1711108800-1711150200@olof.nl
SUMMARY:R.A.F. Padeltoernooi
DESCRIPTION:
URL:https://olof.nl/event/r-a-f-padeltoernooi/
END:VEVENT
END:VCALENDAR