BEGIN:VCALENDAR
VERSION:2.0
PRODID:-//Olof - ECPv6.15.20//NONSGML v1.0//EN
CALSCALE:GREGORIAN
METHOD:PUBLISH
X-WR-CALNAME:Olof
X-ORIGINAL-URL:https://olof.nl
X-WR-CALDESC:Evenementen voor Olof
REFRESH-INTERVAL;VALUE=DURATION:PT1H
X-Robots-Tag:noindex
X-PUBLISHED-TTL:PT1H
BEGIN:VTIMEZONE
TZID:UTC
BEGIN:STANDARD
TZOFFSETFROM:+0000
TZOFFSETTO:+0000
TZNAME:UTC
DTSTART:20230101T000000
END:STANDARD
END:VTIMEZONE
BEGIN:VEVENT
DTSTART;TZID=UTC:20240902T200000
DTEND;TZID=UTC:20240902T233000
DTSTAMP:20260424T193116
CREATED:20240222T094129Z
LAST-MODIFIED:20240226T174239Z
UID:5530-1725307200-1725319800@olof.nl
SUMMARY:TUC
DESCRIPTION:
URL:https://olof.nl/event/tuc-3/
END:VEVENT
BEGIN:VEVENT
DTSTART;TZID=UTC:20240913T170000
DTEND;TZID=UTC:20240913T233000
DTSTAMP:20260424T193116
CREATED:20240626T092847Z
LAST-MODIFIED:20240626T092847Z
UID:5716-1726246800-1726270200@olof.nl
SUMMARY:Odin Valhalla
DESCRIPTION:
URL:https://olof.nl/event/odin-valhalla/
END:VEVENT
BEGIN:VEVENT
DTSTART;TZID=UTC:20240914T140000
DTEND;TZID=UTC:20240914T230000
DTSTAMP:20260424T193116
CREATED:20240409T123015Z
LAST-MODIFIED:20240409T123015Z
UID:5616-1726322400-1726354800@olof.nl
SUMMARY:Floret de mar
DESCRIPTION:
URL:https://olof.nl/event/floret-de-mar-4/
END:VEVENT
BEGIN:VEVENT
DTSTART;TZID=UTC:20240918T200000
DTEND;TZID=UTC:20240918T200000
DTSTAMP:20260424T193116
CREATED:20240918T140648Z
LAST-MODIFIED:20240918T140648Z
UID:5855-1726689600-1726689600@olof.nl
SUMMARY:BaCo activiteit
DESCRIPTION:
URL:https://olof.nl/event/baco-activiteit-3/
END:VEVENT
BEGIN:VEVENT
DTSTART;TZID=UTC:20240919T200000
DTEND;TZID=UTC:20240919T220000
DTSTAMP:20260424T193116
CREATED:20240919T093040Z
LAST-MODIFIED:20240919T093040Z
UID:5904-1726776000-1726783200@olof.nl
SUMMARY:Commissieavond
DESCRIPTION:
URL:https://olof.nl/event/commissieavond-22/
END:VEVENT
BEGIN:VEVENT
DTSTART;TZID=UTC:20240922T233000
DTEND;TZID=UTC:20240922T233000
DTSTAMP:20260424T193116
CREATED:20240918T134633Z
LAST-MODIFIED:20240918T134838Z
UID:5823-1727047800-1727047800@olof.nl
SUMMARY:Klepavond 1
DESCRIPTION:
URL:https://olof.nl/event/klepavond-1/
END:VEVENT
BEGIN:VEVENT
DTSTART;TZID=UTC:20240923T233000
DTEND;TZID=UTC:20240923T233000
DTSTAMP:20260424T193116
CREATED:20240918T134746Z
LAST-MODIFIED:20240918T134746Z
UID:5826-1727134200-1727134200@olof.nl
SUMMARY:Klepavond 2
DESCRIPTION:
URL:https://olof.nl/event/klepavond-2/
END:VEVENT
BEGIN:VEVENT
DTSTART;TZID=UTC:20240924T233000
DTEND;TZID=UTC:20240924T233000
DTSTAMP:20260424T193116
CREATED:20240918T135015Z
LAST-MODIFIED:20240918T135015Z
UID:5828-1727220600-1727220600@olof.nl
SUMMARY:Klepavond 3
DESCRIPTION:
URL:https://olof.nl/event/klepavond-3/
END:VEVENT
END:VCALENDAR