BEGIN:VCALENDAR
VERSION:2.0
PRODID:-//Olof - ECPv6.15.20//NONSGML v1.0//EN
CALSCALE:GREGORIAN
METHOD:PUBLISH
X-WR-CALNAME:Olof
X-ORIGINAL-URL:https://olof.nl
X-WR-CALDESC:Evenementen voor Olof
REFRESH-INTERVAL;VALUE=DURATION:PT1H
X-Robots-Tag:noindex
X-PUBLISHED-TTL:PT1H
BEGIN:VTIMEZONE
TZID:UTC
BEGIN:STANDARD
TZOFFSETFROM:+0000
TZOFFSETTO:+0000
TZNAME:UTC
DTSTART:20230101T000000
END:STANDARD
END:VTIMEZONE
BEGIN:VEVENT
DTSTART;TZID=UTC:20241010T200000
DTEND;TZID=UTC:20241010T233000
DTSTAMP:20260421T173133
CREATED:20240918T135046Z
LAST-MODIFIED:20241004T143310Z
UID:5830-1728590400-1728603000@olof.nl
SUMMARY:Definitieve jaarclubvorming
DESCRIPTION:
URL:https://olof.nl/event/koehandel-3/
END:VEVENT
BEGIN:VEVENT
DTSTART;TZID=UTC:20241014T210000
DTEND;TZID=UTC:20241014T223000
DTSTAMP:20260421T173133
CREATED:20240918T135415Z
LAST-MODIFIED:20240918T135454Z
UID:5834-1728939600-1728945000@olof.nl
SUMMARY:ALV
DESCRIPTION:
URL:https://olof.nl/event/elv-4/
END:VEVENT
BEGIN:VEVENT
DTSTART;TZID=UTC:20241021T190000
DTEND;TZID=UTC:20241021T233000
DTSTAMP:20260421T173133
CREATED:20240918T135701Z
LAST-MODIFIED:20240918T135701Z
UID:5837-1729537200-1729553400@olof.nl
SUMMARY:De Maandagavond
DESCRIPTION:
URL:https://olof.nl/event/de-maandagavond-10/
END:VEVENT
BEGIN:VEVENT
DTSTART;TZID=UTC:20241022T200000
DTEND;TZID=UTC:20241022T233000
DTSTAMP:20260421T173133
CREATED:20240918T135727Z
LAST-MODIFIED:20240918T135727Z
UID:5839-1729627200-1729639800@olof.nl
SUMMARY:Commissieavond
DESCRIPTION:
URL:https://olof.nl/event/commissieavond-17/
END:VEVENT
BEGIN:VEVENT
DTSTART;TZID=UTC:20241024T220000
DTEND;TZID=UTC:20241024T220000
DTSTAMP:20260421T173133
CREATED:20240918T135802Z
LAST-MODIFIED:20240918T135802Z
UID:5841-1729807200-1729807200@olof.nl
SUMMARY:Open Feest
DESCRIPTION:
URL:https://olof.nl/event/open-feest-17/
END:VEVENT
BEGIN:VEVENT
DTSTART;TZID=UTC:20241025T150000
DTEND;TZID=UTC:20241025T150000
DTSTAMP:20260421T173133
CREATED:20240918T135835Z
LAST-MODIFIED:20240918T135835Z
UID:5843-1729868400-1729868400@olof.nl
SUMMARY:PMHT
DESCRIPTION:
URL:https://olof.nl/event/pmht/
END:VEVENT
BEGIN:VEVENT
DTSTART;TZID=UTC:20241028T200000
DTEND;TZID=UTC:20241028T233000
DTSTAMP:20260421T173133
CREATED:20240918T135949Z
LAST-MODIFIED:20240918T135949Z
UID:5845-1730145600-1730158200@olof.nl
SUMMARY:De Maandagavond
DESCRIPTION:
URL:https://olof.nl/event/de-maandagavond-11/
END:VEVENT
BEGIN:VEVENT
DTSTART;TZID=UTC:20241029T203000
DTEND;TZID=UTC:20241029T203000
DTSTAMP:20260421T173133
CREATED:20240918T140204Z
LAST-MODIFIED:20240918T140204Z
UID:5847-1730233800-1730233800@olof.nl
SUMMARY:Kroegjool
DESCRIPTION:
URL:https://olof.nl/event/kroegjool-3/
END:VEVENT
BEGIN:VEVENT
DTSTART;TZID=UTC:20241030T180000
DTEND;TZID=UTC:20241030T180000
DTSTAMP:20260421T173133
CREATED:20240918T140250Z
LAST-MODIFIED:20240918T140250Z
UID:5849-1730311200-1730311200@olof.nl
SUMMARY:MAF feest
DESCRIPTION:
URL:https://olof.nl/event/maf-feest-2/
END:VEVENT
END:VCALENDAR